BEGIN:VCALENDAR
VERSION:2.0
PRODID:-//RAUM für IDEEN - ECPv6.15.20//NONSGML v1.0//EN
CALSCALE:GREGORIAN
METHOD:PUBLISH
X-ORIGINAL-URL:https://ideen-raum.com
X-WR-CALDESC:Veranstaltungen für RAUM für IDEEN
REFRESH-INTERVAL;VALUE=DURATION:PT1H
X-Robots-Tag:noindex
X-PUBLISHED-TTL:PT1H
BEGIN:VTIMEZONE
TZID:Europe/Berlin
BEGIN:DAYLIGHT
TZOFFSETFROM:+0100
TZOFFSETTO:+0200
TZNAME:CEST
DTSTART:20240331T010000
END:DAYLIGHT
BEGIN:STANDARD
TZOFFSETFROM:+0200
TZOFFSETTO:+0100
TZNAME:CET
DTSTART:20241027T010000
END:STANDARD
BEGIN:DAYLIGHT
TZOFFSETFROM:+0100
TZOFFSETTO:+0200
TZNAME:CEST
DTSTART:20250330T010000
END:DAYLIGHT
BEGIN:STANDARD
TZOFFSETFROM:+0200
TZOFFSETTO:+0100
TZNAME:CET
DTSTART:20251026T010000
END:STANDARD
BEGIN:DAYLIGHT
TZOFFSETFROM:+0100
TZOFFSETTO:+0200
TZNAME:CEST
DTSTART:20260329T010000
END:DAYLIGHT
BEGIN:STANDARD
TZOFFSETFROM:+0200
TZOFFSETTO:+0100
TZNAME:CET
DTSTART:20261025T010000
END:STANDARD
END:VTIMEZONE
BEGIN:VEVENT
DTSTART;TZID=Europe/Berlin:20250802T090000
DTEND;TZID=Europe/Berlin:20250802T160000
DTSTAMP:20260424T031444
CREATED:20250617T050231Z
LAST-MODIFIED:20250715T184313Z
UID:472-1754125200-1754150400@ideen-raum.com
SUMMARY:Raku-Brand zum Porzellinerfest
DESCRIPTION:Zum Prozellinerfest veranstalten wir einen Raku-Brand im Garten der Goldschmiede Brunat. \nIhr habt die Möglichkeit\, vorgefertigte Keramikstücke selbst zu glasieren und anschließend den spannenden Brennprozess mitzuerleben. Die Stücke werden bei hoher Temperatur im offenen Feuer gebrannt und anschließend in organisches Material eingebettet\, wodurch charakteristische Risse\, Farbspiele und einzigartige Oberflächen entstehen – jedes Werk ein unverwechselbares Unikat. \n  
URL:https://ideen-raum.com/event/raku-brand-020725/
LOCATION:Goldschmiede Brunat\, Martin-Luther-Platz 9\, Selb\, 95100
ATTACH;FMTTYPE=image/jpeg:https://ideen-raum.com/wp-content/uploads/2025/06/XT201078.jpg
END:VEVENT
BEGIN:VEVENT
DTSTART;TZID=Europe/Berlin:20250815T160000
DTEND;TZID=Europe/Berlin:20250815T200000
DTSTAMP:20260424T031444
CREATED:20250727T151629Z
LAST-MODIFIED:20250728T175834Z
UID:500-1755273600-1755288000@ideen-raum.com
SUMMARY:Schnupperkurs Drehen
DESCRIPTION:Du wolltest dich schon immer mal an der Töpferscheibe ausprobieren\, aber gleich einen 2 Stunden Kurs zu buchen ist dir zu viel?\nDann hast du jetzt bei uns die Gelegenheit in das Thema Töpfern an der Drehscheibe rein zu schnuppern. Dich erwarten 25 Minuten 1:1 Betreuung in der du ein Gefäß töpfern wirst. \nPreis: 25€ für 25 Minuten 1:1 Betreuung inkl. Material \nAnmeldung:  \n 
URL:https://ideen-raum.com/event/schnupperkurs-drehen-150825/
LOCATION:RAUM für IDEEN\, Lorenz-Hutschenreuther-Straße 15-17\, Selb\, 95100\, Germany
END:VEVENT
BEGIN:VEVENT
DTSTART;TZID=Europe/Berlin:20250820T163000
DTEND;TZID=Europe/Berlin:20250820T193000
DTSTAMP:20260424T031444
CREATED:20250728T170624Z
LAST-MODIFIED:20250728T180644Z
UID:520-1755707400-1755718200@ideen-raum.com
SUMMARY:Offene Keramikwerkstatt
DESCRIPTION:Lass deiner Kreativität freien Lauf\, indem du selbstständig etwas formst oder bemalst.\nBei Fragen leisten wir Hilfestellung zur Umsetzung deiner Ideen. \nPreis: Pay what you can – Kursgebühr\, Material nach Bedarf \nAnmeldung: Reserviere dir hier deinen Platz oder komm spontan vorbei
URL:https://ideen-raum.com/event/offene-keramikwerkstatt-200825/
LOCATION:RAUM für IDEEN\, Lorenz-Hutschenreuther-Straße 15-17\, Selb\, 95100\, Germany
END:VEVENT
BEGIN:VEVENT
DTSTART;TZID=Europe/Berlin:20250829T160000
DTEND;TZID=Europe/Berlin:20250829T160000
DTSTAMP:20260424T031444
CREATED:20250728T181250Z
LAST-MODIFIED:20250825T125001Z
UID:532-1756483200-1756483200@ideen-raum.com
SUMMARY:Offene Keramikwerkstatt
DESCRIPTION:Lass die Woche im RAUM für IDEEN ausklingen. \nHierfür steht dir unsere Keramikwerkstatt offen\, die dazu einläd den Werkstoff Ton kreativ zu entdecken. Du kannst Gefäße aus unserer eigenen Produktion bemalen\, frei mit Ton arbeiten oder – nach vorheriger Absprache – die Töpferscheibe nutzen. \nWir stellen dir Material\, Werkzeuge und Arbeitsplätze zur Verfügung. Bei Fragen sind wir ansprechbar\, ansonsten arbeitest du selbstständig an deinen Ideen. So entsteht in entspannter Atmosphäre dein eigenes\, individuelles Werkstück. \nUnd um entspannt ins Wochenende zu starten\, wartet natürlich auch unsere Sitzecke mit Getränken auf dich 🙂 \nBitte beachte: Wir besitzen nur eine Töpferscheibe\, die nur erfahrene Nutzerinnen und Nutzer verwenden können. Eine intensive Einführung oder Betreuung ist während der offenen Werkstatt nicht möglich. \nPreis: Pay what you can – Kursgebühr\, Material nach Bedarf \nAnmeldung: Reserviere dir hier deinen Platz oder komm spontan vorbei
URL:https://ideen-raum.com/event/after-work-290825/
LOCATION:RAUM für IDEEN\, Lorenz-Hutschenreuther-Straße 15-17\, Selb\, 95100\, Germany
ATTACH;FMTTYPE=image/jpeg:https://ideen-raum.com/wp-content/uploads/2025/07/20250608_155308-scaled-e1756126008480.jpg
END:VEVENT
END:VCALENDAR