BEGIN:VCALENDAR
VERSION:2.0
PRODID:-//RAUM für IDEEN - ECPv6.15.20//NONSGML v1.0//EN
CALSCALE:GREGORIAN
METHOD:PUBLISH
X-WR-CALNAME:RAUM für IDEEN
X-ORIGINAL-URL:https://ideen-raum.com
X-WR-CALDESC:Veranstaltungen für RAUM für IDEEN
REFRESH-INTERVAL;VALUE=DURATION:PT1H
X-Robots-Tag:noindex
X-PUBLISHED-TTL:PT1H
BEGIN:VTIMEZONE
TZID:Europe/Berlin
BEGIN:DAYLIGHT
TZOFFSETFROM:+0100
TZOFFSETTO:+0200
TZNAME:CEST
DTSTART:20240331T010000
END:DAYLIGHT
BEGIN:STANDARD
TZOFFSETFROM:+0200
TZOFFSETTO:+0100
TZNAME:CET
DTSTART:20241027T010000
END:STANDARD
BEGIN:DAYLIGHT
TZOFFSETFROM:+0100
TZOFFSETTO:+0200
TZNAME:CEST
DTSTART:20250330T010000
END:DAYLIGHT
BEGIN:STANDARD
TZOFFSETFROM:+0200
TZOFFSETTO:+0100
TZNAME:CET
DTSTART:20251026T010000
END:STANDARD
BEGIN:DAYLIGHT
TZOFFSETFROM:+0100
TZOFFSETTO:+0200
TZNAME:CEST
DTSTART:20260329T010000
END:DAYLIGHT
BEGIN:STANDARD
TZOFFSETFROM:+0200
TZOFFSETTO:+0100
TZNAME:CET
DTSTART:20261025T010000
END:STANDARD
END:VTIMEZONE
BEGIN:VEVENT
DTSTART;TZID=Europe/Berlin:20250606T153000
DTEND;TZID=Europe/Berlin:20250606T160000
DTSTAMP:20260424T064924
CREATED:20250426T154906Z
LAST-MODIFIED:20250430T155730Z
UID:457-1749223800-1749225600@ideen-raum.com
SUMMARY:Kurz-Kurs Schmuckdose
DESCRIPTION:Im Kurs stellst du eine kleine Schmuckschale her\, die perfekt für Ohrstecker oder Ringe ist. Als kleines Gimmick zweckentfremden wir hierfür einen Kugelschreiber – lass dich überraschen.\nIm Anschluss hat der RAUM für IDEEN noch für die After-Work-Session geöffnet\, also bleib gerne noch länger. \nPreis: Pay what you can – Kursgebühr\, 10€ Material \nAnmeldung: Per Mail an info@ideen-raum.com
URL:https://ideen-raum.com/event/schmuckdose-060625/
LOCATION:RAUM für IDEEN\, Lorenz-Hutschenreuther-Straße 15-17\, Selb\, 95100\, Germany
END:VEVENT
BEGIN:VEVENT
DTSTART;TZID=Europe/Berlin:20250606T160000
DTEND;TZID=Europe/Berlin:20250606T160000
DTSTAMP:20260424T064924
CREATED:20250426T153504Z
LAST-MODIFIED:20250430T155907Z
UID:446-1749225600-1749225600@ideen-raum.com
SUMMARY:After Work
DESCRIPTION:Lass die Woche im RAUM für IDEEN ausklingen. \nHierfür steht dir unsere Keramikwerkstatt offen\, in der du dich nach eigenen Wünschen kreativ austoben kannst. Egal ob plastisches Arbeiten mit Ton oder Gefäße bemalen\, bei Fragen helfen wir dir gerne weiter.\nUnd um entspannt ins Wochenende zu starten\, wartet natürlich auch unsere Sitzecke mit Getränken auf dich 🙂 \nPreis: Pay what you can\, Material nach Bedarf \nAnmeldung: komm einfach spontan vorbei
URL:https://ideen-raum.com/event/after-work-060625/
LOCATION:RAUM für IDEEN\, Lorenz-Hutschenreuther-Straße 15-17\, Selb\, 95100\, Germany
END:VEVENT
END:VCALENDAR