BEGIN:VCALENDAR
VERSION:2.0
PRODID:-//RAUM für IDEEN - ECPv6.15.20//NONSGML v1.0//EN
CALSCALE:GREGORIAN
METHOD:PUBLISH
X-WR-CALNAME:RAUM für IDEEN
X-ORIGINAL-URL:https://ideen-raum.com
X-WR-CALDESC:Veranstaltungen für RAUM für IDEEN
REFRESH-INTERVAL;VALUE=DURATION:PT1H
X-Robots-Tag:noindex
X-PUBLISHED-TTL:PT1H
BEGIN:VTIMEZONE
TZID:UTC
BEGIN:STANDARD
TZOFFSETFROM:+0000
TZOFFSETTO:+0000
TZNAME:UTC
DTSTART:20240101T000000
END:STANDARD
END:VTIMEZONE
BEGIN:VTIMEZONE
TZID:Europe/Berlin
BEGIN:DAYLIGHT
TZOFFSETFROM:+0100
TZOFFSETTO:+0200
TZNAME:CEST
DTSTART:20240331T010000
END:DAYLIGHT
BEGIN:STANDARD
TZOFFSETFROM:+0200
TZOFFSETTO:+0100
TZNAME:CET
DTSTART:20241027T010000
END:STANDARD
BEGIN:DAYLIGHT
TZOFFSETFROM:+0100
TZOFFSETTO:+0200
TZNAME:CEST
DTSTART:20250330T010000
END:DAYLIGHT
BEGIN:STANDARD
TZOFFSETFROM:+0200
TZOFFSETTO:+0100
TZNAME:CET
DTSTART:20251026T010000
END:STANDARD
BEGIN:DAYLIGHT
TZOFFSETFROM:+0100
TZOFFSETTO:+0200
TZNAME:CEST
DTSTART:20260329T010000
END:DAYLIGHT
BEGIN:STANDARD
TZOFFSETFROM:+0200
TZOFFSETTO:+0100
TZNAME:CET
DTSTART:20261025T010000
END:STANDARD
END:VTIMEZONE
BEGIN:VEVENT
DTSTART;TZID=UTC:20250503T170000
DTEND;TZID=UTC:20250503T220000
DTSTAMP:20260424T083427
CREATED:20250111T091021Z
LAST-MODIFIED:20250319T093556Z
UID:306-1746291600-1746309600@ideen-raum.com
SUMMARY:KunsTRäume
DESCRIPTION:Aus einem Freizeitprojekt heraus ist im letzten Jahr der Raum für Ideen entstanden – ein Ort für kreative Köpfe und inspririenden Austausch. Das Ladengeschäft gegenüber der Luitpoldschule vereint ein Keramikatelier mit einem Treffpunkt für kreative Vernetzung.\nIn der Werkstatt stellt Robert Tietze seine handgefertigte Keramik her und im Rahmen von Seminaren oder der offenen Werkstatt können Interessierte ihre kreative Ader mit Keramik ausleben. Als kleiner Vorgeschmack besteht an dem Abend die Möglichkeit\, selbst eine Schale aus Ton zu formen und farblich zu gestalten.\nDa uns der Austausch mit anderen Kunst- und Designschaffenden besonders wichtig ist\, freuen wir uns\, zur Kunstnacht den Designer Benedikt Meyer begrüßen zu dürfen.\nSeine analogen Fotografien laden dazu ein\, den Moment bewusster wahrzunehmen und sich auf den entschleunigten Prozess der analogen Fotografie einzulassen.\nDen Abend lassen wir in gemütlicher Atmosphäre mit Getränken und einer einladenden Sitzecke ausklingen – perfekt für anregende Gespräche und neue Inspirationen.
URL:https://ideen-raum.com/event/kunstraeume-2025/
ATTACH;FMTTYPE=image/jpeg:https://ideen-raum.com/wp-content/uploads/2025/01/Kunstraeume2025.jpg
END:VEVENT
BEGIN:VEVENT
DTSTART;TZID=Europe/Berlin:20250523T160000
DTEND;TZID=Europe/Berlin:20250523T160000
DTSTAMP:20260424T083427
CREATED:20250426T153206Z
LAST-MODIFIED:20250510T170047Z
UID:444-1748016000-1748016000@ideen-raum.com
SUMMARY:Finissage Benedikt Meyer & After Work
DESCRIPTION:Lass die Woche im RAUM für IDEEN ausklingen… \nAb 16 Uhr gibt’s ein kreatives Doppel-Event:\nWir feiern die Finissage der Ausstellung von Benedikt Meyer\n&\nstarten gleichzeitig unser neues Format: After Work \nHierfür steht euch unsere Keramikwerkstatt offen\, in der ihr euch nach eigenen Wünschen kreativ austoben könnt. Egal ob plastisches Arbeiten mit Ton oder Gefäße bemalen\, bei Fragen helfen wir euch gerne weiter. \nUnd um entspannt ins Wochenende zu starten\, wartet natürlich auch unsere Sitzecke mit Getränken auf euch 🙂 \nKommt vorbei – wir freuen uns auf euch! \n  \nPreis: Pay what you can\, Material nach Bedarf \nAnmeldung: komm einfach spontan vorbei
URL:https://ideen-raum.com/event/after-work-230525/
LOCATION:RAUM für IDEEN\, Lorenz-Hutschenreuther-Straße 15-17\, Selb\, 95100\, Germany
ATTACH;FMTTYPE=image/png:https://ideen-raum.com/wp-content/uploads/2025/04/Finissage.png
END:VEVENT
BEGIN:VEVENT
DTSTART;TZID=Europe/Berlin:20250527T183000
DTEND;TZID=Europe/Berlin:20250527T203000
DTSTAMP:20260424T083427
CREATED:20250426T154940Z
LAST-MODIFIED:20250426T154940Z
UID:448-1748370600-1748377800@ideen-raum.com
SUMMARY:Pinch perfect
DESCRIPTION:Die Pinching-Technik ist perfekt\, um das Material Ton kennenzulernen oder deine Fingerfertigkeiten in der Formgebung zu perfektionieren.\nDurch Auswahl verschiedener Proportionen und Fußtypen entscheidest du\, was aus deiner Grundform wird. Wie wäre es zum Beispiel mit einer Müslischale fürs leckere Frühstück\, oder einer einer ganz persönlichen Teeschale für ruhige Minuten? \nPreis: Pay what you can – Kursgebühr\, 20€ Material \nAnmeldung: Per Mail an info@ideen-raum.com
URL:https://ideen-raum.com/event/pinch-perfect-270525/
LOCATION:RAUM für IDEEN\, Lorenz-Hutschenreuther-Straße 15-17\, Selb\, 95100\, Germany
END:VEVENT
END:VCALENDAR